BEGIN:VCALENDAR
VERSION:2.0
PRODID:-//Society of Colonial Wars - ECPv6.15.14//NONSGML v1.0//EN
CALSCALE:GREGORIAN
METHOD:PUBLISH
X-WR-CALNAME:Society of Colonial Wars
X-ORIGINAL-URL:https://colonialwarsny.org
X-WR-CALDESC:Events for Society of Colonial Wars
REFRESH-INTERVAL;VALUE=DURATION:PT1H
X-Robots-Tag:noindex
X-PUBLISHED-TTL:PT1H
BEGIN:VTIMEZONE
TZID:America/New_York
BEGIN:DAYLIGHT
TZOFFSETFROM:-0500
TZOFFSETTO:-0400
TZNAME:EDT
DTSTART:20190310T070000
END:DAYLIGHT
BEGIN:STANDARD
TZOFFSETFROM:-0400
TZOFFSETTO:-0500
TZNAME:EST
DTSTART:20191103T060000
END:STANDARD
BEGIN:DAYLIGHT
TZOFFSETFROM:-0500
TZOFFSETTO:-0400
TZNAME:EDT
DTSTART:20200308T070000
END:DAYLIGHT
BEGIN:STANDARD
TZOFFSETFROM:-0400
TZOFFSETTO:-0500
TZNAME:EST
DTSTART:20201101T060000
END:STANDARD
BEGIN:DAYLIGHT
TZOFFSETFROM:-0500
TZOFFSETTO:-0400
TZNAME:EDT
DTSTART:20210314T070000
END:DAYLIGHT
BEGIN:STANDARD
TZOFFSETFROM:-0400
TZOFFSETTO:-0500
TZNAME:EST
DTSTART:20211107T060000
END:STANDARD
BEGIN:DAYLIGHT
TZOFFSETFROM:-0500
TZOFFSETTO:-0400
TZNAME:EDT
DTSTART:20220313T070000
END:DAYLIGHT
BEGIN:STANDARD
TZOFFSETFROM:-0400
TZOFFSETTO:-0500
TZNAME:EST
DTSTART:20221106T060000
END:STANDARD
BEGIN:DAYLIGHT
TZOFFSETFROM:-0500
TZOFFSETTO:-0400
TZNAME:EDT
DTSTART:20230312T070000
END:DAYLIGHT
BEGIN:STANDARD
TZOFFSETFROM:-0400
TZOFFSETTO:-0500
TZNAME:EST
DTSTART:20231105T060000
END:STANDARD
BEGIN:DAYLIGHT
TZOFFSETFROM:-0500
TZOFFSETTO:-0400
TZNAME:EDT
DTSTART:20240310T070000
END:DAYLIGHT
BEGIN:STANDARD
TZOFFSETFROM:-0400
TZOFFSETTO:-0500
TZNAME:EST
DTSTART:20241103T060000
END:STANDARD
BEGIN:DAYLIGHT
TZOFFSETFROM:-0500
TZOFFSETTO:-0400
TZNAME:EDT
DTSTART:20250309T070000
END:DAYLIGHT
BEGIN:STANDARD
TZOFFSETFROM:-0400
TZOFFSETTO:-0500
TZNAME:EST
DTSTART:20251102T060000
END:STANDARD
BEGIN:DAYLIGHT
TZOFFSETFROM:-0500
TZOFFSETTO:-0400
TZNAME:EDT
DTSTART:20260308T070000
END:DAYLIGHT
BEGIN:STANDARD
TZOFFSETFROM:-0400
TZOFFSETTO:-0500
TZNAME:EST
DTSTART:20261101T060000
END:STANDARD
BEGIN:DAYLIGHT
TZOFFSETFROM:-0500
TZOFFSETTO:-0400
TZNAME:EDT
DTSTART:20270314T070000
END:DAYLIGHT
BEGIN:STANDARD
TZOFFSETFROM:-0400
TZOFFSETTO:-0500
TZNAME:EST
DTSTART:20271107T060000
END:STANDARD
END:VTIMEZONE
BEGIN:VEVENT
DTSTART;TZID=America/New_York:20260225T180000
DTEND;TZID=America/New_York:20260225T200000
DTSTAMP:20260419T120914
CREATED:20260226T201746Z
LAST-MODIFIED:20260302T160821Z
UID:10000053-1772042400-1772049600@colonialwarsny.org
SUMMARY:Quarterly Social Gathering
DESCRIPTION:[vc_row][vc_column][vc_column_text css=""]Members and Gentlemen Guests[/vc_column_text][/vc_column][/vc_row][vc_row][vc_column][/vc_column][/vc_row]
URL:https://colonialwarsny.org/calendar-event/prospective-member-reception/
LOCATION:Society of Colonial Wars New York Headquarters\, 20 West 44th Street\, New York\, NY\, 10036\, United States
CATEGORIES:Photos
ORGANIZER;CN="Diane Montgomery":MAILTO:office@colonialwarsny.org
END:VEVENT
BEGIN:VEVENT
DTSTART;TZID=America/New_York:20241213T190000
DTEND;TZID=America/New_York:20241213T235900
DTSTAMP:20260419T120915
CREATED:20240808T214716Z
LAST-MODIFIED:20250128T182039Z
UID:10000043-1734116400-1734134340@colonialwarsny.org
SUMMARY:133rd General Court and Annual Banquet
DESCRIPTION:[vc_row][vc_column][vc_column_text]Here is a link where you can download all the photos: https://clients.kyomorishima.com/20241213societyofcolonialwarsbanquet[/vc_column_text][vc_column_text]\nONE HUNDRED THIRTY THIRD GENERAL COURT & ANNUAL  BANQUET at the UNION CLUB\n101 East 69th Street\, New York City  [/vc_column_text][/vc_column][/vc_row][vc_row][vc_column][vc_video link="https://www.youtube.com/watch?v=8_fXZ3wrx8k" title="Vince Giordano & The Night Hawks"][/vc_column][/vc_row][vc_row][vc_column][/vc_column][/vc_row]
URL:https://colonialwarsny.org/calendar-event/133rd-general-court-and-annual-banquet/
LOCATION:The Union Club\, 101 East 69th Street\, New York\, NY\, United States
CATEGORIES:Photos
ATTACH;FMTTYPE=image/jpeg:https://colonialwarsny.org/wp-content/uploads/2024/08/kmp20241123-134-scaled.jpg
ORGANIZER;CN="Diane Montgomery":MAILTO:office@colonialwarsny.org
END:VEVENT
BEGIN:VEVENT
DTSTART;TZID=America/New_York:20240918T183000
DTEND;TZID=America/New_York:20240918T203000
DTSTAMP:20260419T120915
CREATED:20240808T205456Z
LAST-MODIFIED:20240927T223744Z
UID:10000041-1726684200-1726691400@colonialwarsny.org
SUMMARY:Welcome Back Reception
DESCRIPTION:[vc_row][vc_column][vc_column_text]Our popular joint get-together with the Saint Nicholas Society took place at their headquarters this year. [/vc_column_text][/vc_column][/vc_row]
URL:https://colonialwarsny.org/calendar-event/welcome-back-reception-2/
LOCATION:The Saint Nicholas Society\, 150 East 55th Street\, New York\, NY\, 10022
CATEGORIES:Photos
ATTACH;FMTTYPE=image/jpeg:https://colonialwarsny.org/wp-content/uploads/2024/08/1950s-cocktail-party-e1723152506552.jpg
ORGANIZER;CN="Diane Montgomery":MAILTO:office@colonialwarsny.org
END:VEVENT
BEGIN:VEVENT
DTSTART;TZID=America/New_York:20240613T180000
DTEND;TZID=America/New_York:20240613T200000
DTSTAMP:20260419T120915
CREATED:20240513T212853Z
LAST-MODIFIED:20250624T232900Z
UID:10000040-1718301600-1718308800@colonialwarsny.org
SUMMARY:Summer Party
DESCRIPTION:[vc_row][vc_column][vc_column_text css=""]\n\nThe Society of Colonial Wars in the State of New York\, The Colonial Dames of America\, The National Society of Colonial Dames in the State of New York\, The Society of Mayflower Descendants in the State of New York\, and The Military Order of Foreign Wars\, New York Commandery gathered for a sold out  Summer Party on the third floor terrace of Saint Bartholomew's Community House on Park Avenue on 13 July. A good time was had by all.\n\n\n[/vc_column_text][/vc_column][/vc_row]
URL:https://colonialwarsny.org/calendar-event/summer-party/
LOCATION:St Bartholomew’s Church Community House Third Floor Terrace\, 109 E 50th St\, 3rd Floor\, New York\, NY\, 10022\, United States
CATEGORIES:Photos
ORGANIZER;CN="Diane Montgomery":MAILTO:office@colonialwarsny.org
END:VEVENT
BEGIN:VEVENT
DTSTART;TZID=America/New_York:20240523T190000
DTEND;TZID=America/New_York:20240523T220000
DTSTAMP:20260419T120915
CREATED:20230919T225043Z
LAST-MODIFIED:20240529T133708Z
UID:10000004-1716490800-1716501600@colonialwarsny.org
SUMMARY:Spring Court & Distinguished Book Award
DESCRIPTION:[vc_row][vc_column][vc_column_text][/vc_column_text][vc_column_text][/vc_column_text][/vc_column][/vc_row][vc_row][vc_column width="1/2"][/vc_column][/vc_row]
URL:https://colonialwarsny.org/calendar-event/spring-court-distinguished-book-award/
LOCATION:Union Club\, 101 East 69th Street\, New York\, NY\, 10021\, United States
CATEGORIES:Photos
ATTACH;FMTTYPE=image/jpeg:https://colonialwarsny.org/wp-content/uploads/2023/09/Brave-Cunning-Prince.jpeg
ORGANIZER;CN="Diane Montgomery":MAILTO:office@colonialwarsny.org
END:VEVENT
BEGIN:VEVENT
DTSTART;TZID=America/New_York:20240313T000000
DTEND;TZID=America/New_York:20240313T000000
DTSTAMP:20260419T120915
CREATED:20240313T042753Z
LAST-MODIFIED:20240313T044614Z
UID:10000031-1710288000-1710288000@colonialwarsny.org
SUMMARY:Winter Court 2021 - War Cross Awards Ceremony
DESCRIPTION:[vc_row][vc_column width="1/2"][vc_column_text]View a video of the War Cross Awards Ceremony hereThis year‘s Winter Court was held on 11 March 2021\, at the Union Club. Forty-four Warriors and guests gathered to enjoy the black tie dinner while others were able to watch the evening through a live stream. \nThe theme of the evening was to honor some of those among our membership\, who were awarded War Crosses  by the General Society of Colonial Wars.\n\nOriginally intended to honor those who had served in World War I\, the War Cross is now available to those who have served in most of the Nation’s armed conflicts\, including the Gulf War\, Kosovo\, Afghanistan and Iraq. At our Winter Court\, we bestowed War Crosses upon  eight of the ten members to whom they have been awarded.\n\nColonel Thomas F. Pike\, Jr.\, one of the recipients\, helped revive this tradition and spoke about  the War Cross.\n\n\nTwo of our Awardees were not able to join us in person:\n\nWillits Herbert Sawyer III\, Lieutenant 03\, USN\, 1957-1968 - Vietnam Service Medal 3 Bronze Stars\nand Philip Kingsley Chamberlain\, Specialist 5\, 1970-1976 - Vietnam Service Medal\n\n \n\n---------------------------\n\n\nA special highlight of the evening was to hear our War Cross awardees share something about their military experience.\n\nThose present were:\n\n.\nWilliam D. Norgard\, Major USA\, 2008-2018 -Global War on Terrorism Expeditionary Medal \n  \nAustin W. Lamac\, Sergeant ARNG\, 2005-2012 - Global War on Terrorism Expeditionary Medal \nSumner E. Anderson Lieutenant JG\, USN\, 1992-1994 - Armed Forces Service Medal \n  \nDavid W. Bryant\, Major USMC\, 1987-1993 -Southwest Asia Service Medal \n  \nThomas F. Pike\, Jr.\, Colonel USA\, 1986-Still serving - Bronze Star Awards \n\n\n  \nDaniel L. Hooker\, Major USMC\, 1986-2007 - Southwest Asia Service Medal 3 Stars \n  \nGary L. Dycus\, Lieutenant 02 USAR\, 1968-1970 -Vietnam Service Medal\, Bronze Star \n  \n\n\n \nJohn W. Ingraham\, Lieutenant JG USN\, 1952-1967 - Korean Service Medal \n\n[/vc_column_text][/vc_column][vc_column width="1/2"][/vc_column][/vc_row]
URL:https://colonialwarsny.org/calendar-event/winter-court-2021-war-cross-awards-ceremony-2/
LOCATION:NY
CATEGORIES:Photos
ATTACH;FMTTYPE=image/jpeg:https://colonialwarsny.org/wp-content/uploads/2020/02/War-Cross-.jpg
END:VEVENT
BEGIN:VEVENT
DTSTART;TZID=America/New_York:20240312T000000
DTEND;TZID=America/New_York:20240312T000000
DTSTAMP:20260419T120915
CREATED:20240313T025752Z
LAST-MODIFIED:20240313T030634Z
UID:10000020-1710201600-1710201600@colonialwarsny.org
SUMMARY:Welcome Back Cocktail Party
DESCRIPTION:[vc_row][vc_column width="1/2"][vc_column_text]Our traditional joint Welcome Back Reception took place at the Saint Nicholas Society this year.[/vc_column_text][/vc_column][vc_column width="1/2"][/vc_column][/vc_row]
URL:https://colonialwarsny.org/calendar-event/welcome-back-cocktail-party-4-2/
LOCATION:The Saint Nicholas Society\, 150 East 55th Street\, New York\, NY\, 10022
CATEGORIES:Photos
END:VEVENT
BEGIN:VEVENT
DTSTART;TZID=America/New_York:20240223T180000
DTEND;TZID=America/New_York:20240223T200000
DTSTAMP:20260419T120915
CREATED:20240313T021442Z
LAST-MODIFIED:20240313T022358Z
UID:10000017-1708711200-1708718400@colonialwarsny.org
SUMMARY:Winter Court 2023: The NYG&B Project
DESCRIPTION:[vc_row][vc_column width="1/2"][vc_column_text]\nPresentation of the NYG&B Digitization Project\n\nIn 2019\, the Society of Colonial Wars in the State of New York and the New York Genealogical & Biographical Society embarked on an exciting and crucial project to digitize thousands of our applications\, thereby preserving them for posterity. The older ones were bound in handsome but fragile leather volumes\, others were in row upon row of files.\n\nOur bound volumes A through S\, which consist of applications dated from 1892\, when our Society was founded\, to 1919\, is being published on https://www.newyorkfamilyhistory.org/\, along with a powerful search index.\n[/vc_column_text][/vc_column][vc_column width="1/2"][/vc_column][/vc_row]
URL:https://colonialwarsny.org/calendar-event/winter-court-2023-the-nygb-project-2/
LOCATION:The Union Club\, 101 East 69th Street\, New York\, NY\, United States
CATEGORIES:Photos
ATTACH;FMTTYPE=image/jpeg:https://colonialwarsny.org/wp-content/uploads/2023/01/IMG_2190-scaled.jpeg
END:VEVENT
BEGIN:VEVENT
DTSTART;TZID=America/New_York:20230615T180000
DTEND;TZID=America/New_York:20230615T204500
DTSTAMP:20260419T120915
CREATED:20240308T200527Z
LAST-MODIFIED:20240308T201036Z
UID:10000014-1686852000-1686861900@colonialwarsny.org
SUMMARY:Rocking Summer Colonial Barbecue
DESCRIPTION:[vc_row][vc_column][/vc_column][/vc_row][vc_column][/vc_column]
URL:https://colonialwarsny.org/calendar-event/rocking-summer-colonial-barbecue/
LOCATION:Cedarhurst Yacht Club\, 14 Daniel Cox Road\, Lawrence\, NY\, United States
CATEGORIES:Photos
END:VEVENT
BEGIN:VEVENT
DTSTART;TZID=America/New_York:20230525T190000
DTEND;TZID=America/New_York:20230525T213000
DTSTAMP:20260419T120915
CREATED:20240311T172101Z
LAST-MODIFIED:20240311T172657Z
UID:10000016-1685041200-1685050200@colonialwarsny.org
SUMMARY:Spring Court & 69th Distinguished Book Award
DESCRIPTION:[vc_row][vc_column width="1/2"][vc_column_text]\n\n \nSPRING COURT DINNER \n\nand\n 69th Distinguished Book Award\nto Thomas M. Truxes for\n\nThe Overseas Trade of British America:\nA Narrative History\n\n  \n[/vc_column_text][/vc_column][vc_column width="1/2"][/vc_column][/vc_row]
URL:https://colonialwarsny.org/calendar-event/spring-court-69th-distinguished-book-award-2/
LOCATION:The Union Club\, 101 East 69th Street\, New York\, NY\, United States
CATEGORIES:Photos
ATTACH;FMTTYPE=image/jpeg:https://colonialwarsny.org/wp-content/uploads/2023/03/image001.jpg
END:VEVENT
BEGIN:VEVENT
DTSTART;TZID=America/New_York:20221217T120000
DTEND;TZID=America/New_York:20221217T123000
DTSTAMP:20260419T120915
CREATED:20240313T023656Z
LAST-MODIFIED:20240313T025428Z
UID:10000019-1671278400-1671280200@colonialwarsny.org
SUMMARY:Luncheon at Fraunces Tavern
DESCRIPTION:[vc_row][vc_column width="1/2"][vc_column_text]Fraunces Tavern Lunch[/vc_column_text][/vc_column][vc_column width="1/2"][/vc_column][/vc_row]
URL:https://colonialwarsny.org/calendar-event/luncheon-at-fraunces-tavern-2-2/
LOCATION:Fraunces Tavern Museum\, 54 Pearl Street\, New York\, NY\, 10004\, United States
CATEGORIES:Photos
ATTACH;FMTTYPE=image/jpeg:https://colonialwarsny.org/wp-content/uploads/2021/11/Fraunces-Tavern-in-snow.jpeg
END:VEVENT
BEGIN:VEVENT
DTSTART;TZID=America/New_York:20221207T180000
DTEND;TZID=America/New_York:20221207T200000
DTSTAMP:20260419T120915
CREATED:20240313T023009Z
LAST-MODIFIED:20240313T023616Z
UID:10000018-1670436000-1670443200@colonialwarsny.org
SUMMARY:Prospective Members Reception
DESCRIPTION:[vc_row][vc_column width="1/2"][vc_column_text]\nA Reception for Prospective Members\n\nWednesday 7 December 2022\n6:00 to 8:00PM\n\n\n\n[/vc_column_text][/vc_column][vc_column width="1/2"][/vc_column][/vc_row]
URL:https://colonialwarsny.org/calendar-event/prospective-members-reception-10-2-2/
LOCATION:Society of Colonial Wars New York Headquarters\, 20 West 44th Street\, New York\, NY\, 10036\, United States
CATEGORIES:Photos
END:VEVENT
BEGIN:VEVENT
DTSTART;TZID=America/New_York:20220616T180000
DTEND;TZID=America/New_York:20220616T200000
DTSTAMP:20260419T120915
CREATED:20240313T031524Z
LAST-MODIFIED:20240313T032008Z
UID:10000022-1655402400-1655409600@colonialwarsny.org
SUMMARY:Summer Cocktails and Prospective Members Reception
DESCRIPTION:[vc_row][vc_column width="1/2"][vc_column_text]Prospective Members Reception and Summer Reception: 90+ members and guests gathered at the 3 West Club for joyous celebration\, which included 20 Prospective Members.[/vc_column_text][/vc_column][vc_column width="1/2"][/vc_column][/vc_row]
URL:https://colonialwarsny.org/calendar-event/prospective-members-at-our-summer-reception-2/
LOCATION:The 3 West Club\, 3 West 51st Street\, New York\, NY\, 10104\, United States
CATEGORIES:Photos
END:VEVENT
BEGIN:VEVENT
DTSTART;TZID=America/New_York:20220217T190000
DTEND;TZID=America/New_York:20220217T220000
DTSTAMP:20260419T120915
CREATED:20240313T033153Z
LAST-MODIFIED:20240313T033657Z
UID:10000024-1645124400-1645135200@colonialwarsny.org
SUMMARY:Winter Court 2022: Tales of Our Ancestors
DESCRIPTION:[vc_row][vc_column width="1/2"][vc_column_text][/vc_column_text][/vc_column][vc_column width="1/2"][/vc_column][/vc_row]
URL:https://colonialwarsny.org/calendar-event/winter-court-2022-2/
LOCATION:The Union Club\, 101 East 69th Street\, New York\, NY\, United States
CATEGORIES:Photos
ATTACH;FMTTYPE=image/jpeg:https://colonialwarsny.org/wp-content/uploads/2022/01/IMG_0511-rotated.jpg
END:VEVENT
BEGIN:VEVENT
DTSTART;TZID=America/New_York:20211218T120000
DTEND;TZID=America/New_York:20211218T143000
DTSTAMP:20260419T120915
CREATED:20240313T033745Z
LAST-MODIFIED:20240313T034558Z
UID:10000025-1639828800-1639837800@colonialwarsny.org
SUMMARY:Fraunces Tavern Museum and Lunch
DESCRIPTION:[vc_row][vc_column width="1/2"][vc_column_text]\n\nFollowing our 130th General Court on 17 December\, Warriors and friends had planned to visit the  Fraunces Tavern Museum the next day\, then have lunch together. The guided tour of the museum was excellent\, but the lunch was moved to the Tavern's sister restaurant\, The Lovelace\, a few doors down\, which was a delightful surprise with a fun and delicious lunch.\n\n\n[/vc_column_text][/vc_column][vc_column width="1/2"][/vc_column][/vc_row]
URL:https://colonialwarsny.org/calendar-event/fraunces-tavern-museum-and-lunch-2/
LOCATION:NY
CATEGORIES:Photos
ATTACH;FMTTYPE=image/jpeg:https://colonialwarsny.org/wp-content/uploads/2021/12/IMG_0277.jpg
END:VEVENT
BEGIN:VEVENT
DTSTART;TZID=America/New_York:20211114T160000
DTEND;TZID=America/New_York:20211114T173000
DTSTAMP:20260419T120915
CREATED:20240313T034711Z
LAST-MODIFIED:20240313T035139Z
UID:10000026-1636905600-1636911000@colonialwarsny.org
SUMMARY:Remembrance Day Service at Saint Thomas Church
DESCRIPTION:[vc_row][vc_column][vc_column_text][/vc_column_text][/vc_column][/vc_row]
URL:https://colonialwarsny.org/calendar-event/remembrance-day-service-at-saint-thomas-church-2/
LOCATION:NY
CATEGORIES:Photos
ATTACH;FMTTYPE=image/jpeg:https://colonialwarsny.org/wp-content/uploads/2021/11/IMG_9795.jpg
END:VEVENT
BEGIN:VEVENT
DTSTART;TZID=America/New_York:20210916T180000
DTEND;TZID=America/New_York:20210916T200000
DTSTAMP:20260419T120915
CREATED:20240313T040533Z
LAST-MODIFIED:20240313T040921Z
UID:10000029-1631815200-1631822400@colonialwarsny.org
SUMMARY:Welcome Back Reception 2021
DESCRIPTION:[vc_row][vc_column width="1/2"][vc_column_text]\nThe Society of Colonial Wars in the State of New York & the Saint Nicholas Society of the City of New York held their traditional joint Welcome Back Reception on 16 September at the 3 West Club. \n[/vc_column_text][/vc_column][vc_column width="1/2"][/vc_column][/vc_row]
URL:https://colonialwarsny.org/calendar-event/welcome-back-reception-2021-2/
LOCATION:The 3 West Club\, 3 West 51st Street\, New York\, NY\, 10104\, United States
CATEGORIES:Photos
ATTACH;FMTTYPE=image/jpeg:https://colonialwarsny.org/wp-content/uploads/2021/04/IMG_5230-scaled.jpeg
END:VEVENT
BEGIN:VEVENT
DTSTART;TZID=America/New_York:20210521T190000
DTEND;TZID=America/New_York:20210521T220000
DTSTAMP:20260419T120915
CREATED:20240313T040957Z
LAST-MODIFIED:20240313T041357Z
UID:10000030-1621623600-1621634400@colonialwarsny.org
SUMMARY:Spring Court & Book Award
DESCRIPTION:[vc_row][vc_column width="1/2"][vc_column_text]The 67th Distinguished Book Award took place during the Spring Court on 21 May 2021. It was presented to William Hazelgrove for his recently published work. \nThe video of the Book Award and the lecture can be viewed Here. \n \n  \nThe event was very well attended and also featured Philip K. Chamberlain who was awarded the General Society of Colonial Wars' War Cross.[/vc_column_text][/vc_column][vc_column width="1/2"][/vc_column][/vc_row]
URL:https://colonialwarsny.org/calendar-event/spring-court-book-award-2-2/
LOCATION:The Union Club\, 101 East 69th Street\, New York\, NY\, United States
CATEGORIES:Photos
END:VEVENT
BEGIN:VEVENT
DTSTART;TZID=America/New_York:20200407T180000
DTEND;TZID=America/New_York:20200407T200000
DTSTAMP:20260419T120915
CREATED:20240315T120525Z
LAST-MODIFIED:20240315T120751Z
UID:10000033-1586282400-1586289600@colonialwarsny.org
SUMMARY:Prospective Members Reception
DESCRIPTION:[vc_row][vc_column width="1/2"][vc_column_text]As we adapted to the new situation with the Covid-19 pandemic\, the Prospective Members reception was held online for the first time on 7 April. It was very well attended.[/vc_column_text][/vc_column][vc_column width="1/2"][/vc_column][/vc_row]
URL:https://colonialwarsny.org/calendar-event/prospective-members-reception-8-2/
LOCATION:NY
CATEGORIES:Photos
END:VEVENT
END:VCALENDAR